BEGIN:VCALENDAR
VERSION:2.0
PRODID:-//Groninger Voedseltuinen - ECPv6.12.0.1//NONSGML v1.0//EN
CALSCALE:GREGORIAN
METHOD:PUBLISH
X-ORIGINAL-URL:https://groningervoedseltuinen.nl
X-WR-CALDESC:Evenementen voor Groninger Voedseltuinen
REFRESH-INTERVAL;VALUE=DURATION:PT1H
X-Robots-Tag:noindex
X-PUBLISHED-TTL:PT1H
BEGIN:VTIMEZONE
TZID:UTC
BEGIN:STANDARD
TZOFFSETFROM:+0000
TZOFFSETTO:+0000
TZNAME:UTC
DTSTART:20260101T000000
END:STANDARD
END:VTIMEZONE
BEGIN:VEVENT
DTSTART;TZID=UTC:20260226T164500
DTEND;TZID=UTC:20260226T203000
DTSTAMP:20260421T152204
CREATED:20251008T093432Z
LAST-MODIFIED:20260218T075519Z
UID:2949-1772124300-1772137800@groningervoedseltuinen.nl
SUMMARY:intervisie-sessies #4 - Donderdag 26 februari
DESCRIPTION:Deze intervisie avond heeft nog geen casus. Heb je zelf een uitdaging waar je samen met je mede-tuinders naar wilt kijken? Ben je afgelopen seizoen ergens tegenaan gelopen\, of wil je iets realiseren maar weet je niet hoe? Neem contact met ons op: bas@groningervoedseltuinen.nl  \n  \nIntervisie \nVanuit deze visie hebben we weer besloten om zes intervisie avonden te organiseren voor professionele tuinders met\, of op een voedseltuin. Op deze avonden komen we bij elkaar\, brengt één tuinder een casus in en bespreken we deze met zijn allen. De avonden worden begeleid door een externe begeleider. Het doel is dat we ons allemaal ondersteund voelen en met inspiratie naar huis gaan. Om er een informele en verbindende avond van te maken is ons voorstel om\, voor wie wil\, vooraf samen een eenvoudig hapje te eten. De avonden worden\, indien mogelijk en gewenst\, georganiseerd op de voedseltuin van de inbrenger van de casus. Deelname (en eten) is gratis. Aanmelden is zeer gewenst\, aangezien er ruimte is voor maximaal 10 deelnemers per avond. \nInloop 16:45\nEten 17:00\nStart intervisie 17:30 tot 19:30 \n-> meer informatie op de website
URL:https://groningervoedseltuinen.nl/event/intervisie-sessies-4-donderdag-26-februari/
END:VEVENT
END:VCALENDAR