BEGIN:VCALENDAR
VERSION:2.0
PRODID:-//Groninger Voedseltuinen - ECPv6.12.0.1//NONSGML v1.0//EN
CALSCALE:GREGORIAN
METHOD:PUBLISH
X-ORIGINAL-URL:https://groningervoedseltuinen.nl
X-WR-CALDESC:Evenementen voor Groninger Voedseltuinen
REFRESH-INTERVAL;VALUE=DURATION:PT1H
X-Robots-Tag:noindex
X-PUBLISHED-TTL:PT1H
BEGIN:VTIMEZONE
TZID:UTC
BEGIN:STANDARD
TZOFFSETFROM:+0000
TZOFFSETTO:+0000
TZNAME:UTC
DTSTART:20260101T000000
END:STANDARD
END:VTIMEZONE
BEGIN:VEVENT
DTSTART;TZID=UTC:20260321T080000
DTEND;TZID=UTC:20260531T170000
DTSTAMP:20260421T134940
CREATED:20260311T160926Z
LAST-MODIFIED:20260311T160926Z
UID:4140-1774080000-1780246800@groningervoedseltuinen.nl
SUMMARY:Grond zoekt tuinder - Groninger Voedseltuinen Tour
DESCRIPTION:Verspreid door de provincie Groningen zijn er stukken grond ‘op zoek’ naar een tuinder. Heb jij het in je om\, met onze hulp\, een professionele voedseltuin op te zetten?  \nIn het voorjaar van 2026 trekken de voedseltuinen de provincie in! Op verschillende plekken zijn we te vinden bij evenementen en opendagen om te laten zien\, horen en voelen wat het betekend om tuinder te zijn. Want op verschillende plekken zijn stukken grond opzoek naar een tuinder die bij hun past\, wellicht ben jij hun match? Vanuit Stichting Groninger Voedseltuinen laten we je graag kennis maken met de Groninger Grond\, het vak en alles wat er bij komt kijken. Enthousiast? Dan helpen we je verder met de start. Eerst even kijken? Dan helpen we je ook graag bij het vinden van informatie en volgende stappen. Dus kom en ervaar de voedseltuin! \nOp 21 Maart staan we op de zadenmarkt in Op Maarhuizen met onze interactieve ‘grond zoekt tuinder’ installatie. Kom je ook langs? \n 
URL:https://groningervoedseltuinen.nl/event/grond-zoekt-tuinder-groninger-voedseltuinen-tour/
END:VEVENT
BEGIN:VEVENT
DTSTART;TZID=UTC:20260321T110000
DTEND;TZID=UTC:20260321T170000
DTSTAMP:20260421T134940
CREATED:20260227T123334Z
LAST-MODIFIED:20260227T123334Z
UID:4109-1774090800-1774112400@groningervoedseltuinen.nl
SUMMARY:Noordelijke Zadenmarkt
DESCRIPTION:Op zaterdag 21 maart 2026 vindt de negende editie van de Noordelijke Zadenmarkt plaats Op Maarhuizen. In de schuren zullen verschillende standhouders hun zaden\, knollen en bijzondere eetbare planten te koop aanbieden. Ook zal er een afwisselend en inspirerend programma zijn van workshops en lezingen. \nHet thema voor de zadenmarkt dit jaar is ‘Proef en beleef lokaal ErfGoud’. Bezoekers maken kennis met oude Noord Nederlandse (erfgoed)rassen en gewassen (groenten\, bonen\, granen\, aardappelen)\, en gaan er ook zelf mee aan de slag met workshops en proeverijen. Oude rassen en gewassen hebben een rijke en unieke smaak\, en zijn goed voor ‘bodem\, buik\, en bijen’. \nHou de website in de gaten voor updates over het programma!
URL:https://groningervoedseltuinen.nl/event/noordelijke-zadenmarkt/
END:VEVENT
BEGIN:VEVENT
DTSTART;TZID=UTC:20260322T093000
DTEND;TZID=UTC:20260322T170000
DTSTAMP:20260421T134940
CREATED:20260311T151404Z
LAST-MODIFIED:20260311T151404Z
UID:4134-1774171800-1774198800@groningervoedseltuinen.nl
SUMMARY:Dagcursus Opkweek (voor CSA tuinders)
DESCRIPTION:Na drie succesvolle dagcursussen eigen opkweek\, die CSA Netwerk en De BioTuinders organiseerde met medewerking van Aeres Warmonderhof\, plannen we nog een vierde dag in Noord Nederland. Deze extra dagcursus\, gegeven door Quinten Messemaker van de Woldtuin\, wordt georganiseerd door het CSA Netwerk\, de BioTuinders\, Stichting Groninger Voedseltuinen en het Noordelijk Zadennetwerk. Op zondag 22 maart inspireren we tuinders om zelf meer plantgoed op te gaan kweken. We zijn welkom bij Tuinderij Klein Alma in Bedum. \nIn één dag behandelen we een aantal van de belangrijkste gewassen en methoden om zelf gemakkelijk op te gaan kweken. We bespreken welke gewassen warm of koud opgekweekt moeten worden en welke materialen je nodig hebt voor opkweek. In de middag gaan we ook praktisch aan de slag met voorzaaien. Dat doen we in dit geval met cellentrays\, we zullen de voor- en nadelen van trays en eigen gemaakte perspotjes bespreken. \nDe cursus wordt gegeven door Quinten van de Woldtuin in Groningen\, waar ze nu 4 jaar volledig hun eigen opkweek doen. Hoe werkt dit in de praktijk\, waar lopen zij tegenaan\, wat zijn veelgemaakte fouten die je kunt voorkomen: deze dag zit vol met handige tips om je eigen opkweek goed op orde te krijgen. \n  \nDatum: zondag 22 maart 2026 \nTijdstip: 9.30 – 16.30 \nLocatie: Tuinderij Klein Alma\, Oude Dijk 2\, 9781 BL Bedum (provincie Groningen) \nKosten: 75\,- p.p. incl. koffie en thee en biologische lunch.\nLeden van het CSA Netwerk en/of De BioTuinders krijgen 50% korting en betalen 37\,50 p.p.\nLET OP: Als je lid bent gebruik dan de gegevens zoals je bekend bent bij een van de twee organisaties. \n  \nAanmelden via de website van CSA Netwerk \n 
URL:https://groningervoedseltuinen.nl/event/dagcursus-opkweek-voor-csa-tuinders/
END:VEVENT
BEGIN:VEVENT
DTSTART;TZID=UTC:20260324T100000
DTEND;TZID=UTC:20260324T160000
DTSTAMP:20260421T134940
CREATED:20260311T151630Z
LAST-MODIFIED:20260311T151630Z
UID:4136-1774346400-1774368000@groningervoedseltuinen.nl
SUMMARY:Voorjaarsontmoeting bij Yn’e Sinne Farm & Kiemkrêft – (voor CSA tuinders)
DESCRIPTION:Voorjaarsontmoeting met kijkje in de opkweekkeuken \nGedurende februari en maart organiseert het CSA Netwerk 8 voorjaarsontmoetingen in het hele land. In iedere regio zal er minimaal een ontmoeting plaatsvinden\, steeds op een locatie waar veel te zien en te leren is over eigen opkweek. Je kunt als deelnemer naar een ontmoeting bij jou in de buurt gaan maar je bent ook vrij om meerdere ontmoetingen in het land te bezoeken. Bezoek vooral de plekken die voor jou van nut kunnen zijn in aanloop naar aankomend teeltseizoen. We beginnen met een korte groepsoefening die in het teken staat van kennismaking en uitwisseling over het thema opkweek. Daarna volgt een rondleiding van 1 a 1\,5 uur op het bedrijf met de focus op eigen opkweek. Door een kijkje in de opkweekkeuken krijg je te zien hoe anderen de eigen opkweek aanpakken en is er ook veel ruimte voor onderling kennis uitwisselen hierover. \nBen je lid of steunlid van het CSA Netwerk? Dan kun je gratis deelnemen. Als je geen lid bent dan vragen we een vergoeding van 10\,- per ontmoeting waar je aan deelneemt. Je kunt al steunlid van het CSA Netwerk worden vanaf 20\,- per jaar. \nJoël van den Broek van Yn’e Sinne Farm kweekt al drie jaar zijn eigen plantgoed op. Hij wilde niet afhankelijk zijn van één partij voor plantopkweek en daarom is hij het zelf gaan doen. In eerste instantie voor zichzelf en daarna  kweekte hij ook op voor een aantal andere tuinders. Samen met Jochum de Boer besloot hij onlangs het nieuwe coöperatieve opkweekbedrijf Kiemkrêft in Noord-Nederland op te zetten. Daar gaan we ’s middags een kijkje nemen. Na een potluck lunch is het 30 minuutjes rijden naar Kimswerd waar we een rondleiding krijgen van Jochum de Boer en Joël van den Broek. \nDatum: dinsdag 24 maart 2026 \nTijdstip: 10.00 – 12.30 + potluck lunch + 13:30 – 16:00 \nLocatie: start bij Yn’e Sinne Farm\, Leppedyk\, 9001 ZD Grou (Friesland)\, na de potluck lunch gaan we naar Kiemkrêft in Kimswerd (Friesland) \nKosten: Gratis voor leden van het CSA Netwerk\, 10\,- voor niet-leden.\nLet op: Aanmelden verplicht\, ook als het lid bent. Als je lid bent gebruik dan de gegevens zoals je bekend bent bij het CSA Netwerk. \n  \nAanmelden via de website van CSA netwerk
URL:https://groningervoedseltuinen.nl/event/voorjaarsontmoeting-bij-yne-sinne-farm-kiemkreft-voor-csa-tuinders/
END:VEVENT
BEGIN:VEVENT
DTSTART;TZID=UTC:20260325T100000
DTEND;TZID=UTC:20260325T160000
DTSTAMP:20260421T134940
CREATED:20260311T151814Z
LAST-MODIFIED:20260311T151814Z
UID:4138-1774432800-1774454400@groningervoedseltuinen.nl
SUMMARY:Voorjaarsontmoeting bij de Blije Bodem & De Woldtuin - Voor CSA tuinders
DESCRIPTION:Voorjaarsontmoeting met kijkjes in de opkweekkeuken \nGedurende februari en maart organiseert het CSA Netwerk 8 tot 10 voorjaarsontmoetingen in het hele land. In iedere regio zal er minimaal een ontmoeting plaatsvinden\, steeds op een locatie waar veel te zien en te leren is over eigen opkweek. Je kunt als deelnemer naar een ontmoeting bij jou in de buurt gaan maar je bent ook vrij om meerdere ontmoetingen in het land te bezoeken. Bezoek vooral de plekken die voor jou van nut kunnen zijn in aanloop naar aankomend teeltseizoen. We beginnen met een korte groepsoefening die in het teken staat van kennismaking en uitwisseling over het thema opkweek. Daarna volgt een rondleiding van 1 a 1\,5 uur op het bedrijf met de focus op eigen opkweek. Door een kijkje in de opkweekkeuken krijg je te zien hoe anderen de eigen opkweek aanpakken en is er ook veel ruimte voor onderling kennis uitwisselen hierover. \nBen je lid of steunlid van het CSA Netwerk? Dan kun je gratis deelnemen. Als je geen lid bent dan vragen we een vergoeding van 10\,- per ontmoeting waar je aan deelneemt. Je kunt al steunlid van het CSA Netwerk worden vanaf 20\,- per jaar. \nBas Welvering van de Blije Bodem en Quinten Messemaker van De Woldtuin kweken hun plantgoed al jaren volledig zelf op. Het is voor hen zo logisch om dat op eigen bedrijf te doen en daarom willen zij laten zien hoe zij het doen en waarom. De tuinderijen zitten dicht bij elkaar en daardoor wisselen zij ook plantgoed onderling uit\, ook met andere tuinders in de buurt overigens. Je krijgt hier o.a. een hotbed en een warmtetafel op zonne-energie te zien. Ze nemen je mee in hun experimenten en leren je over de voor en nadelen. \nDatum: woensdag 25 maart 2026 \nTijdstip: 10.00 – 12.30 + potluck lunch + 13:30 – 16:00  \nLocaties: start bij de Blije Bodem\, Tarralaan 3\, 9745 ER Groningen\, na de potluck lunch gaan we naar de Woldtuin\, Wolddijk 52\, 9781TK Bedum \nKosten: Gratis voor leden van het CSA Netwerk\, 10\,- voor niet-leden.\nLet op: Aanmelden verplicht\, ook als het lid bent. Als je lid bent gebruik dan de gegevens zoals je bekend bent bij het CSA Netwerk. \n  \nAanmelden via de website van CSA netwerk
URL:https://groningervoedseltuinen.nl/event/voorjaarsontmoeting-bij-de-blije-bodem-de-woldtuin-voor-csa-tuinders/
END:VEVENT
BEGIN:VEVENT
DTSTART;TZID=UTC:20260326T053000
DTEND;TZID=UTC:20260326T213000
DTSTAMP:20260421T134940
CREATED:20251008T093645Z
LAST-MODIFIED:20251008T093645Z
UID:2951-1774503000-1774560600@groningervoedseltuinen.nl
SUMMARY:intervisie-sessie #5 Donderdag 26 maart
DESCRIPTION:Deze intervisie avond heeft nog geen casus. Heb je zelf een uitdaging waar je samen met je mede-tuinders naar wilt kijken? Ben je afgelopen seizoen ergens tegenaan gelopen\, of wil je iets realiseren maar weet je niet hoe? Neem contact met ons op: bas@groningervoedseltuinen.nl  \n  \nIntervisie \nVanuit deze visie hebben we weer besloten om zes intervisie avonden te organiseren voor professionele tuinders met\, of op een voedseltuin. Op deze avonden komen we bij elkaar\, brengt één tuinder een casus in en bespreken we deze met zijn allen. De avonden worden begeleid door een externe begeleider. Het doel is dat we ons allemaal ondersteund voelen en met inspiratie naar huis gaan. Om er een informele en verbindende avond van te maken is ons voorstel om\,  voor wie wil\, vooraf samen een eenvoudig hapje te eten. De avonden worden indien mogelijk en gewenst  georganiseerd op de voedseltuin van de inbrenger van de casus. Deelname (en eten) is gratis. Aanmelden is zeer gewenst\, aangezien er ruimte is voor maximaal 10 deelnemers per avond. \nAlgemeen programma: \n17:45 – Inloop \n18:00 – Gezamenlijk een hapje eten \n19:00 – Intervisie \n21:30 – Einde \n-> meer informatie op de website
URL:https://groningervoedseltuinen.nl/event/intervisie-sessie-5-donderdag-26-maart/
END:VEVENT
END:VCALENDAR